Workbook
Name NBJMOIS: 'Calcul AF'!$B$4
Name SMICHOR: 'Calcul AF'!$B$3
Name SMICMENS: 'Calcul AF'!$B$2
Name SUJETION: 'Calcul AF'!$B$6
Name VP: 'Calcul AF'!$B$5

Sheet Calcul AF
A1: MATRICULE | B1: CONTRAT | C1: V1
A2: Smic mens | B2: 1678.95
A3: SMIC HORAIRE | B3: 11.07
A4: NBJ mois | B4: 30
A5: VP | B5: 3.82
A6: Sujetion | B6: 1.0921 | L6: Part 1 | S6: Part 2 | Z6: Part 3 | AG6: Totaux
L7: Rémunération | N7: Absence | P7: Retenu | S7: Rémunération | U7: Absence | W7: Retenu | Z7: Rémunération | AB7: Absence | AD7: Retenu
A8: MATRICULE | B8: Contrat | C8: V1 | D8: Accueil permanent continu | E8: Anc. | F8: Nb enfants | G8: NbJ Enfant 1 | H8: Nbj Enfant2 | I8: Nbj Enfant 3 | J8: Nbj mixte | K8: Salaire Majoration Sujetion | L8: Légale | M8: Conv | N8: Légale | O8: Conv | Q8: Rému. | R8: Absence | S8: Légale | T8: Conv | U8: Légale | V8: Conv | X8: Rému. | Y8: Absence | Z8: Légale | AA8: Conv | AB8: Légale | AC8: Conv | AE8: Rému. | AF8: Absence | AG8: Rémunération | AH8: Ind.Absence | AI8: Mixte | AJ8: Total | AK8: Régularisation
A9: 30683 | B9: 1.1.0 | C9: 1072.28 | D9: TRUE | E9: 0 | F9: 1 | G9: 30 | H9: 0 | J9: 0 | K9: 2103.3 | L9: =ROUND(IF($G9=0,0,IF($D9,$G9/NBJMOIS*SMICMENS,0)),2) -> 1678.95 | M9: =ROUND(IF($G9=0,0,IF($D9,IF($G9<16,$G9,26)/26*VP*SUJETION*VLOOKUP($E9,ANC!A$2:B$12,2,TRUE),0)),2) -> 1230.69 | N9: =IF(ISBLANK(A9),0,IF($D9,ROUND(IF($G9=NBJMOIS,0,(NBJMOIS-$G9)/NBJMOIS)*0.8*SMICMENS,2),0)) -> 0 | O9: =IF(ISBLANK(A9),0,IF($D9,ROUND(IF($G9>16,0,(NBJMOIS-$G9)/NBJMOIS)*0.8*SMICMENS,2),0)) -> 0 | P9: =IF(L9+N9>M9+O9,"LEGALE","CONV") -> LEGALE | Q9: =IF($D9,IF($P9="LEGALE",L9,M9),ROUND(5.06*SMICHOR*G9,2)) -> 1678.95 | R9: =IF($D9,IF($P9="LEGALE",N9,O9),0) -> 0 | S9: =IF($D9,ROUND(IF($H9=0,0,IF($D9,$H9/NBJMOIS*70*SMICHOR,0)),2),0) -> 0 | T9: =IF($D9,ROUND(IF($H9=0,0,IF($D9,IF($H9<16,$H9,26)/26*VP*SUJETION*VLOOKUP($E9,ANC!$A$2:$D$12,4,TRUE),0)),2),0) -> 0 | U9: =IF($D9,ROUND(IF($H9=0,0,(NBJMOIS-$H9)/NBJMOIS*0.8*70*SMICHOR),2),0) -> 0 | V9: =IF($D9,ROUND(IF($H9=0,0,(NBJMOIS-$H9)/NBJMOIS*0.8*70*SMICHOR),2),0) -> 0 | W9: =IF(S9+U9>T9+V9,"LEGALE","CONV") -> CONV | X9: =IF($D9,IF($W9="LEGALE",S9,T9),ROUND(5.06*SMICHOR*H9,2)) -> 0 | Y9: =IF($D9,IF($W9="LEGALE",U9,V9),0) -> 0 | Z9: =IF($D9,ROUND(IF($I9=0,0,IF($D9,$I9/NBJMOIS*70*SMICHOR,0)),2),0) -> 0 | AA9: =IF($D9,ROUND(IF($I9=0,0,IF($D9,IF($I9<16,$I9,26)/26*VP*SUJETION*VLOOKUP($E9,ANC!$A$2:$D$12,4,TRUE),0)),2),0) -> 0 | AB9: =IF($D9,ROUND(IF($I9=0,0,(NBJMOIS-$I9)/NBJMOIS*0.8*70*SMICHOR),2),0) -> 0 | AC9: =IF($D9,ROUND(IF($I9=0,0,(NBJMOIS-$I9)/NBJMOIS*0.8*70*SMICHOR),2),0) -> 0 | AD9: =IF(Z9+AB9>AA9+AC9,"LEGALE","CONV") -> CONV | AE9: =IF($D9,IF($AD9="LEGALE",Z9,AA9),ROUND(5.06*SMICHOR*I9,2)) -> 0 | AF9: =IF($D9,IF($AD9="LEGALE",AB9,AC9),0) -> 0 | AG9: =Q9+X9+AE9 -> 1678.95 | AH9: =R9+Y9+AF9 -> 0 | AI9: =IF(ISBLANK(A9),0,ROUND(J9/26*VP*SUJETION*VLOOKUP($E9,ANC!A2:G12,7,TRUE),2)) -> 0 | AJ9: =AG9+AH9+AI9 -> 1678.95 | AK9: =AJ9-K9 -> -424.35
D10: TRUE | E10: 0 | F10: 0 | G10: 0 | H10: 0 | J10: 0 | L10: =ROUND(IF($G10=0,0,IF($D10,$G10/NBJMOIS*SMICMENS,0)),2) -> 0 | M10: =ROUND(IF($G10=0,0,IF($D10,IF($G10<16,$G10,26)/26*VP*SUJETION*VLOOKUP($E10,ANC!A$2:B$12,2,TRUE),0)),2) -> 0 | N10: =IF(ISBLANK(A10),0,IF($D10,ROUND(IF($G10=NBJMOIS,0,(NBJMOIS-$G10)/NBJMOIS)*0.8*SMICMENS,2),0)) -> 0 | O10: =IF(ISBLANK(A10),0,IF($D10,ROUND(IF($G10>16,0,(NBJMOIS-$G10)/NBJMOIS)*0.8*SMICMENS,2),0)) -> 0 | P10: =IF(L10+N10>M10+O10,"LEGALE","CONV") -> CONV | Q10: =IF($D10,IF($P10="LEGALE",L10,M10),ROUND(5.06*SMICHOR*G10,2)) -> 0 | R10: =IF($D10,IF($P10="LEGALE",N10,O10),0) -> 0 | S10: =IF($D10,ROUND(IF($H10=0,0,IF($D10,$H10/NBJMOIS*70*SMICHOR,0)),2),0) -> 0 | T10: =IF($D10,ROUND(IF($H10=0,0,IF($D10,IF($H10<16,$H10,26)/26*VP*SUJETION*VLOOKUP($E10,ANC!$A$2:$D$12,4,TRUE),0)),2),0) -> 0 | U10: =IF($D10,ROUND(IF($H10=0,0,(NBJMOIS-$H10)/NBJMOIS*0.8*70*SMICHOR),2),0) -> 0 | V10: =IF($D10,ROUND(IF($H10=0,0,(NBJMOIS-$H10)/NBJMOIS*0.8*70*SMICHOR),2),0) -> 0 | W10: =IF(S10+U10>T10+V10,"LEGALE","CONV") -> CONV | X10: =IF($D10,IF($W10="LEGALE",S10,T10),ROUND(5.06*SMICHOR*H10,2)) -> 0 | Y10: =IF($D10,IF($W10="LEGALE",U10,V10),0) -> 0 | Z10: =IF($D10,ROUND(IF($I10=0,0,IF($D10,$I10/NBJMOIS*70*SMICHOR,0)),2),0) -> 0 | AA10: =IF($D10,ROUND(IF($I10=0,0,IF($D10,IF($I10<16,$I10,26)/26*VP*SUJETION*VLOOKUP($E10,ANC!$A$2:$D$12,4,TRUE),0)),2),0) -> 0 | AB10: =IF($D10,ROUND(IF($I10=0,0,(NBJMOIS-$I10)/NBJMOIS*0.8*70*SMICHOR),2),0) -> 0 | AC10: =IF($D10,ROUND(IF($I10=0,0,(NBJMOIS-$I10)/NBJMOIS*0.8*70*SMICHOR),2),0) -> 0 | AD10: =IF(Z10+AB10>AA10+AC10,"LEGALE","CONV") -> CONV | AE10: =IF($D10,IF($AD10="LEGALE",Z10,AA10),ROUND(5.06*SMICHOR*I10,2)) -> 0 | AF10: =IF($D10,IF($AD10="LEGALE",AB10,AC10),0) -> 0 | AG10: =Q10+X10+AE10 -> 0 | AH10: =R10+Y10+AF10 -> 0 | AI10: =IF(ISBLANK(A10),0,ROUND(J10/26*VP*SUJETION*VLOOKUP($E10,ANC!A3:G13,7,TRUE),2)) -> 0 | AJ10: =AG10+AH10+AI10 -> 0 | AK10: =AJ10-K10 -> 0
D11: TRUE | E11: 0 | F11: 0 | G11: 0 | H11: 0 | J11: 0 | L11: =ROUND(IF($G11=0,0,IF($D11,$G11/NBJMOIS*SMICMENS,0)),2) -> 0 | M11: =ROUND(IF($G11=0,0,IF($D11,IF($G11<16,$G11,26)/26*VP*SUJETION*VLOOKUP($E11,ANC!A$2:B$12,2,TRUE),0)),2) -> 0 | N11: =IF(ISBLANK(A11),0,IF($D11,ROUND(IF($G11=NBJMOIS,0,(NBJMOIS-$G11)/NBJMOIS)*0.8*SMICMENS,2),0)) -> 0 | O11: =IF(ISBLANK(A11),0,IF($D11,ROUND(IF($G11>16,0,(NBJMOIS-$G11)/NBJMOIS)*0.8*SMICMENS,2),0)) -> 0 | P11: =IF(L11+N11>M11+O11,"LEGALE","CONV") -> CONV | Q11: =IF($D11,IF($P11="LEGALE",L11,M11),ROUND(5.06*SMICHOR*G11,2)) -> 0 | R11: =IF($D11,IF($P11="LEGALE",N11,O11),0) -> 0 | S11: =IF($D11,ROUND(IF($H11=0,0,IF($D11,$H11/NBJMOIS*70*SMICHOR,0)),2),0) -> 0 | T11: =IF($D11,ROUND(IF($H11=0,0,IF($D11,IF($H11<16,$H11,26)/26*VP*SUJETION*VLOOKUP($E11,ANC!$A$2:$D$12,4,TRUE),0)),2),0) -> 0 | U11: =IF($D11,ROUND(IF($H11=0,0,(NBJMOIS-$H11)/NBJMOIS*0.8*70*SMICHOR),2),0) -> 0 | V11: =IF($D11,ROUND(IF($H11=0,0,(NBJMOIS-$H11)/NBJMOIS*0.8*70*SMICHOR),2),0) -> 0 | W11: =IF(S11+U11>T11+V11,"LEGALE","CONV") -> CONV | X11: =IF($D11,IF($W11="LEGALE",S11,T11),ROUND(5.06*SMICHOR*H11,2)) -> 0 | Y11: =IF($D11,IF($W11="LEGALE",U11,V11),0) -> 0 | Z11: =IF($D11,ROUND(IF($I11=0,0,IF($D11,$I11/NBJMOIS*70*SMICHOR,0)),2),0) -> 0 | AA11: =IF($D11,ROUND(IF($I11=0,0,IF($D11,IF($I11<16,$I11,26)/26*VP*SUJETION*VLOOKUP($E11,ANC!$A$2:$D$12,4,TRUE),0)),2),0) -> 0 | AB11: =IF($D11,ROUND(IF($I11=0,0,(NBJMOIS-$I11)/NBJMOIS*0.8*70*SMICHOR),2),0) -> 0 | AC11: =IF($D11,ROUND(IF($I11=0,0,(NBJMOIS-$I11)/NBJMOIS*0.8*70*SMICHOR),2),0) -> 0 | AD11: =IF(Z11+AB11>AA11+AC11,"LEGALE","CONV") -> CONV | AE11: =IF($D11,IF($AD11="LEGALE",Z11,AA11),ROUND(5.06*SMICHOR*I11,2)) -> 0 | AF11: =IF($D11,IF($AD11="LEGALE",AB11,AC11),0) -> 0 | AG11: =Q11+X11+AE11 -> 0 | AH11: =R11+Y11+AF11 -> 0 | AI11: =IF(ISBLANK(A11),0,ROUND(J11/26*VP*SUJETION*VLOOKUP($E11,ANC!A4:G14,7,TRUE),2)) -> 0 | AJ11: =AG11+AH11+AI11 -> 0 | AK11: =AJ11-K11 -> 0
D12: TRUE | E12: 0 | F12: 0 | G12: 0 | H12: 0 | J12: 0 | L12: =ROUND(IF($G12=0,0,IF($D12,$G12/NBJMOIS*SMICMENS,0)),2) -> 0 | M12: =ROUND(IF($G12=0,0,IF($D12,IF($G12<16,$G12,26)/26*VP*SUJETION*VLOOKUP($E12,ANC!A$2:B$12,2,TRUE),0)),2) -> 0 | N12: =IF(ISBLANK(A12),0,IF($D12,ROUND(IF($G12=NBJMOIS,0,(NBJMOIS-$G12)/NBJMOIS)*0.8*SMICMENS,2),0)) -> 0 | O12: =IF(ISBLANK(A12),0,IF($D12,ROUND(IF($G12>16,0,(NBJMOIS-$G12)/NBJMOIS)*0.8*SMICMENS,2),0)) -> 0 | P12: =IF(L12+N12>M12+O12,"LEGALE","CONV") -> CONV | Q12: =IF($D12,IF($P12="LEGALE",L12,M12),ROUND(5.06*SMICHOR*G12,2)) -> 0 | R12: =IF($D12,IF($P12="LEGALE",N12,O12),0) -> 0 | S12: =IF($D12,ROUND(IF($H12=0,0,IF($D12,$H12/NBJMOIS*70*SMICHOR,0)),2),0) -> 0 | T12: =IF($D12,ROUND(IF($H12=0,0,IF($D12,IF($H12<16,$H12,26)/26*VP*SUJETION*VLOOKUP($E12,ANC!$A$2:$D$12,4,TRUE),0)),2),0) -> 0 | U12: =IF($D12,ROUND(IF($H12=0,0,(NBJMOIS-$H12)/NBJMOIS*0.8*70*SMICHOR),2),0) -> 0 | V12: =IF($D12,ROUND(IF($H12=0,0,(NBJMOIS-$H12)/NBJMOIS*0.8*70*SMICHOR),2),0) -> 0 | W12: =IF(S12+U12>T12+V12,"LEGALE","CONV") -> CONV | X12: =IF($D12,IF($W12="LEGALE",S12,T12),ROUND(5.06*SMICHOR*H12,2)) -> 0 | Y12: =IF($D12,IF($W12="LEGALE",U12,V12),0) -> 0 | Z12: =IF($D12,ROUND(IF($I12=0,0,IF($D12,$I12/NBJMOIS*70*SMICHOR,0)),2),0) -> 0 | AA12: =IF($D12,ROUND(IF($I12=0,0,IF($D12,IF($I12<16,$I12,26)/26*VP*SUJETION*VLOOKUP($E12,ANC!$A$2:$D$12,4,TRUE),0)),2),0) -> 0 | AB12: =IF($D12,ROUND(IF($I12=0,0,(NBJMOIS-$I12)/NBJMOIS*0.8*70*SMICHOR),2),0) -> 0 | AC12: =IF($D12,ROUND(IF($I12=0,0,(NBJMOIS-$I12)/NBJMOIS*0.8*70*SMICHOR),2),0) -> 0 | AD12: =IF(Z12+AB12>AA12+AC12,"LEGALE","CONV") -> CONV | AE12: =IF($D12,IF($AD12="LEGALE",Z12,AA12),ROUND(5.06*SMICHOR*I12,2)) -> 0 | AF12: =IF($D12,IF($AD12="LEGALE",AB12,AC12),0) -> 0 | AG12: =Q12+X12+AE12 -> 0 | AH12: =R12+Y12+AF12 -> 0 | AI12: =IF(ISBLANK(A12),0,ROUND(J12/26*VP*SUJETION*VLOOKUP($E12,ANC!A5:G15,7,TRUE),2)) -> 0 | AJ12: =AG12+AH12+AI12 -> 0 | AK12: =AJ12-K12 -> 0
D13: TRUE | E13: 0 | F13: 0 | G13: 0 | H13: 0 | J13: 0 | L13: =ROUND(IF($G13=0,0,IF($D13,$G13/NBJMOIS*SMICMENS,0)),2) -> 0 | M13: =ROUND(IF($G13=0,0,IF($D13,IF($G13<16,$G13,26)/26*VP*SUJETION*VLOOKUP($E13,ANC!A$2:B$12,2,TRUE),0)),2) -> 0 | N13: =IF(ISBLANK(A13),0,IF($D13,ROUND(IF($G13=NBJMOIS,0,(NBJMOIS-$G13)/NBJMOIS)*0.8*SMICMENS,2),0)) -> 0 | O13: =IF(ISBLANK(A13),0,IF($D13,ROUND(IF($G13>16,0,(NBJMOIS-$G13)/NBJMOIS)*0.8*SMICMENS,2),0)) -> 0 | P13: =IF(L13+N13>M13+O13,"LEGALE","CONV") -> CONV | Q13: =IF($D13,IF($P13="LEGALE",L13,M13),ROUND(5.06*SMICHOR*G13,2)) -> 0 | R13: =IF($D13,IF($P13="LEGALE",N13,O13),0) -> 0 | S13: =IF($D13,ROUND(IF($H13=0,0,IF($D13,$H13/NBJMOIS*70*SMICHOR,0)),2),0) -> 0 | T13: =IF($D13,ROUND(IF($H13=0,0,IF($D13,IF($H13<16,$H13,26)/26*VP*SUJETION*VLOOKUP($E13,ANC!$A$2:$D$12,4,TRUE),0)),2),0) -> 0 | U13: =IF($D13,ROUND(IF($H13=0,0,(NBJMOIS-$H13)/NBJMOIS*0.8*70*SMICHOR),2),0) -> 0 | V13: =IF($D13,ROUND(IF($H13=0,0,(NBJMOIS-$H13)/NBJMOIS*0.8*70*SMICHOR),2),0) -> 0 | W13: =IF(S13+U13>T13+V13,"LEGALE","CONV") -> CONV | X13: =IF($D13,IF($W13="LEGALE",S13,T13),ROUND(5.06*SMICHOR*H13,2)) -> 0 | Y13: =IF($D13,IF($W13="LEGALE",U13,V13),0) -> 0 | Z13: =IF($D13,ROUND(IF($I13=0,0,IF($D13,$I13/NBJMOIS*70*SMICHOR,0)),2),0) -> 0 | AA13: =IF($D13,ROUND(IF($I13=0,0,IF($D13,IF($I13<16,$I13,26)/26*VP*SUJETION*VLOOKUP($E13,ANC!$A$2:$D$12,4,TRUE),0)),2),0) -> 0 | AB13: =IF($D13,ROUND(IF($I13=0,0,(NBJMOIS-$I13)/NBJMOIS*0.8*70*SMICHOR),2),0) -> 0 | AC13: =IF($D13,ROUND(IF($I13=0,0,(NBJMOIS-$I13)/NBJMOIS*0.8*70*SMICHOR),2),0) -> 0 | AD13: =IF(Z13+AB13>AA13+AC13,"LEGALE","CONV") -> CONV | AE13: =IF($D13,IF($AD13="LEGALE",Z13,AA13),ROUND(5.06*SMICHOR*I13,2)) -> 0 | AF13: =IF($D13,IF($AD13="LEGALE",AB13,AC13),0) -> 0 | AG13: =Q13+X13+AE13 -> 0 | AH13: =R13+Y13+AF13 -> 0 | AI13: =IF(ISBLANK(A13),0,ROUND(J13/26*VP*SUJETION*VLOOKUP($E13,ANC!A6:G16,7,TRUE),2)) -> 0 | AJ13: =AG13+AH13+AI13 -> 0 | AK13: =AJ13-K13 -> 0
D14: TRUE | E14: 0 | F14: 0 | G14: 0 | H14: 0 | J14: 0 | L14: =ROUND(IF($G14=0,0,IF($D14,$G14/NBJMOIS*SMICMENS,0)),2) -> 0 | M14: =ROUND(IF($G14=0,0,IF($D14,IF($G14<16,$G14,26)/26*VP*SUJETION*VLOOKUP($E14,ANC!A$2:B$12,2,TRUE),0)),2) -> 0 | N14: =IF(ISBLANK(A14),0,IF($D14,ROUND(IF($G14=NBJMOIS,0,(NBJMOIS-$G14)/NBJMOIS)*0.8*SMICMENS,2),0)) -> 0 | O14: =IF(ISBLANK(A14),0,IF($D14,ROUND(IF($G14>16,0,(NBJMOIS-$G14)/NBJMOIS)*0.8*SMICMENS,2),0)) -> 0 | P14: =IF(L14+N14>M14+O14,"LEGALE","CONV") -> CONV | Q14: =IF($D14,IF($P14="LEGALE",L14,M14),ROUND(5.06*SMICHOR*G14,2)) -> 0 | R14: =IF($D14,IF($P14="LEGALE",N14,O14),0) -> 0 | S14: =IF($D14,ROUND(IF($H14=0,0,IF($D14,$H14/NBJMOIS*70*SMICHOR,0)),2),0) -> 0 | T14: =IF($D14,ROUND(IF($H14=0,0,IF($D14,IF($H14<16,$H14,26)/26*VP*SUJETION*VLOOKUP($E14,ANC!$A$2:$D$12,4,TRUE),0)),2),0) -> 0 | U14: =IF($D14,ROUND(IF($H14=0,0,(NBJMOIS-$H14)/NBJMOIS*0.8*70*SMICHOR),2),0) -> 0 | V14: =IF($D14,ROUND(IF($H14=0,0,(NBJMOIS-$H14)/NBJMOIS*0.8*70*SMICHOR),2),0) -> 0 | W14: =IF(S14+U14>T14+V14,"LEGALE","CONV") -> CONV | X14: =IF($D14,IF($W14="LEGALE",S14,T14),ROUND(5.06*SMICHOR*H14,2)) -> 0 | Y14: =IF($D14,IF($W14="LEGALE",U14,V14),0) -> 0 | Z14: =IF($D14,ROUND(IF($I14=0,0,IF($D14,$I14/NBJMOIS*70*SMICHOR,0)),2),0) -> 0 | AA14: =IF($D14,ROUND(IF($I14=0,0,IF($D14,IF($I14<16,$I14,26)/26*VP*SUJETION*VLOOKUP($E14,ANC!$A$2:$D$12,4,TRUE),0)),2),0) -> 0 | AB14: =IF($D14,ROUND(IF($I14=0,0,(NBJMOIS-$I14)/NBJMOIS*0.8*70*SMICHOR),2),0) -> 0 | AC14: =IF($D14,ROUND(IF($I14=0,0,(NBJMOIS-$I14)/NBJMOIS*0.8*70*SMICHOR),2),0) -> 0 | AD14: =IF(Z14+AB14>AA14+AC14,"LEGALE","CONV") -> CONV | AE14: =IF($D14,IF($AD14="LEGALE",Z14,AA14),ROUND(5.06*SMICHOR*I14,2)) -> 0 | AF14: =IF($D14,IF($AD14="LEGALE",AB14,AC14),0) -> 0 | AG14: =Q14+X14+AE14 -> 0 | AH14: =R14+Y14+AF14 -> 0 | AI14: =IF(ISBLANK(A14),0,ROUND(J14/26*VP*SUJETION*VLOOKUP($E14,ANC!A7:G17,7,TRUE),2)) -> 0 | AJ14: =AG14+AH14+AI14 -> 0 | AK14: =AJ14-K14 -> 0
D15: TRUE | E15: 0 | F15: 0 | G15: 0 | H15: 0 | J15: 0 | L15: =ROUND(IF($G15=0,0,IF($D15,$G15/NBJMOIS*SMICMENS,0)),2) -> 0 | M15: =ROUND(IF($G15=0,0,IF($D15,IF($G15<16,$G15,26)/26*VP*SUJETION*VLOOKUP($E15,ANC!A$2:B$12,2,TRUE),0)),2) -> 0 | N15: =IF(ISBLANK(A15),0,IF($D15,ROUND(IF($G15=NBJMOIS,0,(NBJMOIS-$G15)/NBJMOIS)*0.8*SMICMENS,2),0)) -> 0 | O15: =IF(ISBLANK(A15),0,IF($D15,ROUND(IF($G15>16,0,(NBJMOIS-$G15)/NBJMOIS)*0.8*SMICMENS,2),0)) -> 0 | P15: =IF(L15+N15>M15+O15,"LEGALE","CONV") -> CONV | Q15: =IF($D15,IF($P15="LEGALE",L15,M15),ROUND(5.06*SMICHOR*G15,2)) -> 0 | R15: =IF($D15,IF($P15="LEGALE",N15,O15),0) -> 0 | S15: =IF($D15,ROUND(IF($H15=0,0,IF($D15,$H15/NBJMOIS*70*SMICHOR,0)),2),0) -> 0 | T15: =IF($D15,ROUND(IF($H15=0,0,IF($D15,IF($H15<16,$H15,26)/26*VP*SUJETION*VLOOKUP($E15,ANC!$A$2:$D$12,4,TRUE),0)),2),0) -> 0 | U15: =IF($D15,ROUND(IF($H15=0,0,(NBJMOIS-$H15)/NBJMOIS*0.8*70*SMICHOR),2),0) -> 0 | V15: =IF($D15,ROUND(IF($H15=0,0,(NBJMOIS-$H15)/NBJMOIS*0.8*70*SMICHOR),2),0) -> 0 | W15: =IF(S15+U15>T15+V15,"LEGALE","CONV") -> CONV | X15: =IF($D15,IF($W15="LEGALE",S15,T15),ROUND(5.06*SMICHOR*H15,2)) -> 0 | Y15: =IF($D15,IF($W15="LEGALE",U15,V15),0) -> 0 | Z15: =IF($D15,ROUND(IF($I15=0,0,IF($D15,$I15/NBJMOIS*70*SMICHOR,0)),2),0) -> 0 | AA15: =IF($D15,ROUND(IF($I15=0,0,IF($D15,IF($I15<16,$I15,26)/26*VP*SUJETION*VLOOKUP($E15,ANC!$A$2:$D$12,4,TRUE),0)),2),0) -> 0 | AB15: =IF($D15,ROUND(IF($I15=0,0,(NBJMOIS-$I15)/NBJMOIS*0.8*70*SMICHOR),2),0) -> 0 | AC15: =IF($D15,ROUND(IF($I15=0,0,(NBJMOIS-$I15)/NBJMOIS*0.8*70*SMICHOR),2),0) -> 0 | AD15: =IF(Z15+AB15>AA15+AC15,"LEGALE","CONV") -> CONV | AE15: =IF($D15,IF($AD15="LEGALE",Z15,AA15),ROUND(5.06*SMICHOR*I15,2)) -> 0 | AF15: =IF($D15,IF($AD15="LEGALE",AB15,AC15),0) -> 0 | AG15: =Q15+X15+AE15 -> 0 | AH15: =R15+Y15+AF15 -> 0 | AI15: =IF(ISBLANK(A15),0,ROUND(J15/26*VP*SUJETION*VLOOKUP($E15,ANC!A8:G18,7,TRUE),2)) -> 0 | AJ15: =AG15+AH15+AI15 -> 0 | AK15: =AJ15-K15 -> 0
D16: TRUE | E16: 0 | F16: 0 | G16: 0 | H16: 0 | J16: 0 | L16: =ROUND(IF($G16=0,0,IF($D16,$G16/NBJMOIS*SMICMENS,0)),2) -> 0 | M16: =ROUND(IF($G16=0,0,IF($D16,IF($G16<16,$G16,26)/26*VP*SUJETION*VLOOKUP($E16,ANC!A$2:B$12,2,TRUE),0)),2) -> 0 | N16: =IF(ISBLANK(A16),0,IF($D16,ROUND(IF($G16=NBJMOIS,0,(NBJMOIS-$G16)/NBJMOIS)*0.8*SMICMENS,2),0)) -> 0 | O16: =IF(ISBLANK(A16),0,IF($D16,ROUND(IF($G16>16,0,(NBJMOIS-$G16)/NBJMOIS)*0.8*SMICMENS,2),0)) -> 0 | P16: =IF(L16+N16>M16+O16,"LEGALE","CONV") -> CONV | Q16: =IF($D16,IF($P16="LEGALE",L16,M16),ROUND(5.06*SMICHOR*G16,2)) -> 0 | R16: =IF($D16,IF($P16="LEGALE",N16,O16),0) -> 0 | S16: =IF($D16,ROUND(IF($H16=0,0,IF($D16,$H16/NBJMOIS*70*SMICHOR,0)),2),0) -> 0 | T16: =IF($D16,ROUND(IF($H16=0,0,IF($D16,IF($H16<16,$H16,26)/26*VP*SUJETION*VLOOKUP($E16,ANC!$A$2:$D$12,4,TRUE),0)),2),0) -> 0 | U16: =IF($D16,ROUND(IF($H16=0,0,(NBJMOIS-$H16)/NBJMOIS*0.8*70*SMICHOR),2),0) -> 0 | V16: =IF($D16,ROUND(IF($H16=0,0,(NBJMOIS-$H16)/NBJMOIS*0.8*70*SMICHOR),2),0) -> 0 | W16: =IF(S16+U16>T16+V16,"LEGALE","CONV") -> CONV | X16: =IF($D16,IF($W16="LEGALE",S16,T16),ROUND(5.06*SMICHOR*H16,2)) -> 0 | Y16: =IF($D16,IF($W16="LEGALE",U16,V16),0) -> 0 | Z16: =IF($D16,ROUND(IF($I16=0,0,IF($D16,$I16/NBJMOIS*70*SMICHOR,0)),2),0) -> 0 | AA16: =IF($D16,ROUND(IF($I16=0,0,IF($D16,IF($I16<16,$I16,26)/26*VP*SUJETION*VLOOKUP($E16,ANC!$A$2:$D$12,4,TRUE),0)),2),0) -> 0 | AB16: =IF($D16,ROUND(IF($I16=0,0,(NBJMOIS-$I16)/NBJMOIS*0.8*70*SMICHOR),2),0) -> 0 | AC16: =IF($D16,ROUND(IF($I16=0,0,(NBJMOIS-$I16)/NBJMOIS*0.8*70*SMICHOR),2),0) -> 0 | AD16: =IF(Z16+AB16>AA16+AC16,"LEGALE","CONV") -> CONV | AE16: =IF($D16,IF($AD16="LEGALE",Z16,AA16),ROUND(5.06*SMICHOR*I16,2)) -> 0 | AF16: =IF($D16,IF($AD16="LEGALE",AB16,AC16),0) -> 0 | AG16: =Q16+X16+AE16 -> 0 | AH16: =R16+Y16+AF16 -> 0 | AI16: =IF(ISBLANK(A16),0,ROUND(J16/26*VP*SUJETION*VLOOKUP($E16,ANC!A9:G19,7,TRUE),2)) -> 0 | AJ16: =AG16+AH16+AI16 -> 0 | AK16: =AJ16-K16 -> 0
D17: TRUE | E17: 0 | F17: 0 | G17: 0 | H17: 0 | J17: 0 | L17: =ROUND(IF($G17=0,0,IF($D17,$G17/NBJMOIS*SMICMENS,0)),2) -> 0 | M17: =ROUND(IF($G17=0,0,IF($D17,IF($G17<16,$G17,26)/26*VP*SUJETION*VLOOKUP($E17,ANC!A$2:B$12,2,TRUE),0)),2) -> 0 | N17: =IF(ISBLANK(A17),0,IF($D17,ROUND(IF($G17=NBJMOIS,0,(NBJMOIS-$G17)/NBJMOIS)*0.8*SMICMENS,2),0)) -> 0 | O17: =IF(ISBLANK(A17),0,IF($D17,ROUND(IF($G17>16,0,(NBJMOIS-$G17)/NBJMOIS)*0.8*SMICMENS,2),0)) -> 0 | P17: =IF(L17+N17>M17+O17,"LEGALE","CONV") -> CONV | Q17: =IF($D17,IF($P17="LEGALE",L17,M17),ROUND(5.06*SMICHOR*G17,2)) -> 0 | R17: =IF($D17,IF($P17="LEGALE",N17,O17),0) -> 0 | S17: =IF($D17,ROUND(IF($H17=0,0,IF($D17,$H17/NBJMOIS*70*SMICHOR,0)),2),0) -> 0 | T17: =IF($D17,ROUND(IF($H17=0,0,IF($D17,IF($H17<16,$H17,26)/26*VP*SUJETION*VLOOKUP($E17,ANC!$A$2:$D$12,4,TRUE),0)),2),0) -> 0 | U17: =IF($D17,ROUND(IF($H17=0,0,(NBJMOIS-$H17)/NBJMOIS*0.8*70*SMICHOR),2),0) -> 0 | V17: =IF($D17,ROUND(IF($H17=0,0,(NBJMOIS-$H17)/NBJMOIS*0.8*70*SMICHOR),2),0) -> 0 | W17: =IF(S17+U17>T17+V17,"LEGALE","CONV") -> CONV | X17: =IF($D17,IF($W17="LEGALE",S17,T17),ROUND(5.06*SMICHOR*H17,2)) -> 0 | Y17: =IF($D17,IF($W17="LEGALE",U17,V17),0) -> 0 | Z17: =IF($D17,ROUND(IF($I17=0,0,IF($D17,$I17/NBJMOIS*70*SMICHOR,0)),2),0) -> 0 | AA17: =IF($D17,ROUND(IF($I17=0,0,IF($D17,IF($I17<16,$I17,26)/26*VP*SUJETION*VLOOKUP($E17,ANC!$A$2:$D$12,4,TRUE),0)),2),0) -> 0 | AB17: =IF($D17,ROUND(IF($I17=0,0,(NBJMOIS-$I17)/NBJMOIS*0.8*70*SMICHOR),2),0) -> 0 | AC17: =IF($D17,ROUND(IF($I17=0,0,(NBJMOIS-$I17)/NBJMOIS*0.8*70*SMICHOR),2),0) -> 0 | AD17: =IF(Z17+AB17>AA17+AC17,"LEGALE","CONV") -> CONV | AE17: =IF($D17,IF($AD17="LEGALE",Z17,AA17),ROUND(5.06*SMICHOR*I17,2)) -> 0 | AF17: =IF($D17,IF($AD17="LEGALE",AB17,AC17),0) -> 0 | AG17: =Q17+X17+AE17 -> 0 | AH17: =R17+Y17+AF17 -> 0 | AI17: =IF(ISBLANK(A17),0,ROUND(J17/26*VP*SUJETION*VLOOKUP($E17,ANC!A10:G20,7,TRUE),2)) -> 0 | AJ17: =AG17+AH17+AI17 -> 0 | AK17: =AJ17-K17 -> 0
D18: TRUE | E18: 0 | F18: 0 | G18: 0 | H18: 0 | J18: 0 | L18: =ROUND(IF($G18=0,0,IF($D18,$G18/NBJMOIS*SMICMENS,0)),2) -> 0 | M18: =ROUND(IF($G18=0,0,IF($D18,IF($G18<16,$G18,26)/26*VP*SUJETION*VLOOKUP($E18,ANC!A$2:B$12,2,TRUE),0)),2) -> 0 | N18: =IF(ISBLANK(A18),0,IF($D18,ROUND(IF($G18=NBJMOIS,0,(NBJMOIS-$G18)/NBJMOIS)*0.8*SMICMENS,2),0)) -> 0 | O18: =IF(ISBLANK(A18),0,IF($D18,ROUND(IF($G18>16,0,(NBJMOIS-$G18)/NBJMOIS)*0.8*SMICMENS,2),0)) -> 0 | P18: =IF(L18+N18>M18+O18,"LEGALE","CONV") -> CONV | Q18: =IF($D18,IF($P18="LEGALE",L18,M18),ROUND(5.06*SMICHOR*G18,2)) -> 0 | R18: =IF($D18,IF($P18="LEGALE",N18,O18),0) -> 0 | S18: =IF($D18,ROUND(IF($H18=0,0,IF($D18,$H18/NBJMOIS*70*SMICHOR,0)),2),0) -> 0 | T18: =IF($D18,ROUND(IF($H18=0,0,IF($D18,IF($H18<16,$H18,26)/26*VP*SUJETION*VLOOKUP($E18,ANC!$A$2:$D$12,4,TRUE),0)),2),0) -> 0 | U18: =IF($D18,ROUND(IF($H18=0,0,(NBJMOIS-$H18)/NBJMOIS*0.8*70*SMICHOR),2),0) -> 0 | V18: =IF($D18,ROUND(IF($H18=0,0,(NBJMOIS-$H18)/NBJMOIS*0.8*70*SMICHOR),2),0) -> 0 | W18: =IF(S18+U18>T18+V18,"LEGALE","CONV") -> CONV | X18: =IF($D18,IF($W18="LEGALE",S18,T18),ROUND(5.06*SMICHOR*H18,2)) -> 0 | Y18: =IF($D18,IF($W18="LEGALE",U18,V18),0) -> 0 | Z18: =IF($D18,ROUND(IF($I18=0,0,IF($D18,$I18/NBJMOIS*70*SMICHOR,0)),2),0) -> 0 | AA18: =IF($D18,ROUND(IF($I18=0,0,IF($D18,IF($I18<16,$I18,26)/26*VP*SUJETION*VLOOKUP($E18,ANC!$A$2:$D$12,4,TRUE),0)),2),0) -> 0 | AB18: =IF($D18,ROUND(IF($I18=0,0,(NBJMOIS-$I18)/NBJMOIS*0.8*70*SMICHOR),2),0) -> 0 | AC18: =IF($D18,ROUND(IF($I18=0,0,(NBJMOIS-$I18)/NBJMOIS*0.8*70*SMICHOR),2),0) -> 0 | AD18: =IF(Z18+AB18>AA18+AC18,"LEGALE","CONV") -> CONV | AE18: =IF($D18,IF($AD18="LEGALE",Z18,AA18),ROUND(5.06*SMICHOR*I18,2)) -> 0 | AF18: =IF($D18,IF($AD18="LEGALE",AB18,AC18),0) -> 0 | AG18: =Q18+X18+AE18 -> 0 | AH18: =R18+Y18+AF18 -> 0 | AI18: =IF(ISBLANK(A18),0,ROUND(J18/26*VP*SUJETION*VLOOKUP($E18,ANC!A11:G21,7,TRUE),2)) -> 0 | AJ18: =AG18+AH18+AI18 -> 0 | AK18: =AJ18-K18 -> 0
D19: TRUE | E19: 0 | F19: 0 | G19: 0 | H19: 0 | J19: 0 | L19: =ROUND(IF($G19=0,0,IF($D19,$G19/NBJMOIS*SMICMENS,0)),2) -> 0 | M19: =ROUND(IF($G19=0,0,IF($D19,IF($G19<16,$G19,26)/26*VP*SUJETION*VLOOKUP($E19,ANC!A$2:B$12,2,TRUE),0)),2) -> 0 | N19: =IF(ISBLANK(A19),0,IF($D19,ROUND(IF($G19=NBJMOIS,0,(NBJMOIS-$G19)/NBJMOIS)*0.8*SMICMENS,2),0)) -> 0 | O19: =IF(ISBLANK(A19),0,IF($D19,ROUND(IF($G19>16,0,(NBJMOIS-$G19)/NBJMOIS)*0.8*SMICMENS,2),0)) -> 0 | P19: =IF(L19+N19>M19+O19,"LEGALE","CONV") -> CONV | Q19: =IF($D19,IF($P19="LEGALE",L19,M19),ROUND(5.06*SMICHOR*G19,2)) -> 0 | R19: =IF($D19,IF($P19="LEGALE",N19,O19),0) -> 0 | S19: =IF($D19,ROUND(IF($H19=0,0,IF($D19,$H19/NBJMOIS*70*SMICHOR,0)),2),0) -> 0 | T19: =IF($D19,ROUND(IF($H19=0,0,IF($D19,IF($H19<16,$H19,26)/26*VP*SUJETION*VLOOKUP($E19,ANC!$A$2:$D$12,4,TRUE),0)),2),0) -> 0 | U19: =IF($D19,ROUND(IF($H19=0,0,(NBJMOIS-$H19)/NBJMOIS*0.8*70*SMICHOR),2),0) -> 0 | V19: =IF($D19,ROUND(IF($H19=0,0,(NBJMOIS-$H19)/NBJMOIS*0.8*70*SMICHOR),2),0) -> 0 | W19: =IF(S19+U19>T19+V19,"LEGALE","CONV") -> CONV | X19: =IF($D19,IF($W19="LEGALE",S19,T19),ROUND(5.06*SMICHOR*H19,2)) -> 0 | Y19: =IF($D19,IF($W19="LEGALE",U19,V19),0) -> 0 | Z19: =IF($D19,ROUND(IF($I19=0,0,IF($D19,$I19/NBJMOIS*70*SMICHOR,0)),2),0) -> 0 | AA19: =IF($D19,ROUND(IF($I19=0,0,IF($D19,IF($I19<16,$I19,26)/26*VP*SUJETION*VLOOKUP($E19,ANC!$A$2:$D$12,4,TRUE),0)),2),0) -> 0 | AB19: =IF($D19,ROUND(IF($I19=0,0,(NBJMOIS-$I19)/NBJMOIS*0.8*70*SMICHOR),2),0) -> 0 | AC19: =IF($D19,ROUND(IF($I19=0,0,(NBJMOIS-$I19)/NBJMOIS*0.8*70*SMICHOR),2),0) -> 0 | AD19: =IF(Z19+AB19>AA19+AC19,"LEGALE","CONV") -> CONV | AE19: =IF($D19,IF($AD19="LEGALE",Z19,AA19),ROUND(5.06*SMICHOR*I19,2)) -> 0 | AF19: =IF($D19,IF($AD19="LEGALE",AB19,AC19),0) -> 0 | AG19: =Q19+X19+AE19 -> 0 | AH19: =R19+Y19+AF19 -> 0 | AI19: =IF(ISBLANK(A19),0,ROUND(J19/26*VP*SUJETION*VLOOKUP($E19,ANC!A12:G22,7,TRUE),2)) -> 0 | AJ19: =AG19+AH19+AI19 -> 0 | AK19: =AJ19-K19 -> 0
D20: TRUE | E20: 0 | F20: 0 | G20: 0 | H20: 0 | J20: 0 | L20: =ROUND(IF($G20=0,0,IF($D20,$G20/NBJMOIS*SMICMENS,0)),2) -> 0 | M20: =ROUND(IF($G20=0,0,IF($D20,IF($G20<16,$G20,26)/26*VP*SUJETION*VLOOKUP($E20,ANC!A$2:B$12,2,TRUE),0)),2) -> 0 | N20: =IF(ISBLANK(A20),0,IF($D20,ROUND(IF($G20=NBJMOIS,0,(NBJMOIS-$G20)/NBJMOIS)*0.8*SMICMENS,2),0)) -> 0 | O20: =IF(ISBLANK(A20),0,IF($D20,ROUND(IF($G20>16,0,(NBJMOIS-$G20)/NBJMOIS)*0.8*SMICMENS,2),0)) -> 0 | P20: =IF(L20+N20>M20+O20,"LEGALE","CONV") -> CONV | Q20: =IF($D20,IF($P20="LEGALE",L20,M20),ROUND(5.06*SMICHOR*G20,2)) -> 0 | R20: =IF($D20,IF($P20="LEGALE",N20,O20),0) -> 0 | S20: =IF($D20,ROUND(IF($H20=0,0,IF($D20,$H20/NBJMOIS*70*SMICHOR,0)),2),0) -> 0 | T20: =IF($D20,ROUND(IF($H20=0,0,IF($D20,IF($H20<16,$H20,26)/26*VP*SUJETION*VLOOKUP($E20,ANC!$A$2:$D$12,4,TRUE),0)),2),0) -> 0 | U20: =IF($D20,ROUND(IF($H20=0,0,(NBJMOIS-$H20)/NBJMOIS*0.8*70*SMICHOR),2),0) -> 0 | V20: =IF($D20,ROUND(IF($H20=0,0,(NBJMOIS-$H20)/NBJMOIS*0.8*70*SMICHOR),2),0) -> 0 | W20: =IF(S20+U20>T20+V20,"LEGALE","CONV") -> CONV | X20: =IF($D20,IF($W20="LEGALE",S20,T20),ROUND(5.06*SMICHOR*H20,2)) -> 0 | Y20: =IF($D20,IF($W20="LEGALE",U20,V20),0) -> 0 | Z20: =IF($D20,ROUND(IF($I20=0,0,IF($D20,$I20/NBJMOIS*70*SMICHOR,0)),2),0) -> 0 | AA20: =IF($D20,ROUND(IF($I20=0,0,IF($D20,IF($I20<16,$I20,26)/26*VP*SUJETION*VLOOKUP($E20,ANC!$A$2:$D$12,4,TRUE),0)),2),0) -> 0 | AB20: =IF($D20,ROUND(IF($I20=0,0,(NBJMOIS-$I20)/NBJMOIS*0.8*70*SMICHOR),2),0) -> 0 | AC20: =IF($D20,ROUND(IF($I20=0,0,(NBJMOIS-$I20)/NBJMOIS*0.8*70*SMICHOR),2),0) -> 0 | AD20: =IF(Z20+AB20>AA20+AC20,"LEGALE","CONV") -> CONV | AE20: =IF($D20,IF($AD20="LEGALE",Z20,AA20),ROUND(5.06*SMICHOR*I20,2)) -> 0 | AF20: =IF($D20,IF($AD20="LEGALE",AB20,AC20),0) -> 0 | AG20: =Q20+X20+AE20 -> 0 | AH20: =R20+Y20+AF20 -> 0 | AI20: =IF(ISBLANK(A20),0,ROUND(J20/26*VP*SUJETION*VLOOKUP($E20,ANC!A13:G23,7,TRUE),2)) -> 0 | AJ20: =AG20+AH20+AI20 -> 0 | AK20: =AJ20-K20 -> 0
D21: TRUE | E21: 0 | F21: 0 | G21: 0 | H21: 0 | J21: 0 | L21: =ROUND(IF($G21=0,0,IF($D21,$G21/NBJMOIS*SMICMENS,0)),2) -> 0 | M21: =ROUND(IF($G21=0,0,IF($D21,IF($G21<16,$G21,26)/26*VP*SUJETION*VLOOKUP($E21,ANC!A$2:B$12,2,TRUE),0)),2) -> 0 | N21: =IF(ISBLANK(A21),0,IF($D21,ROUND(IF($G21=NBJMOIS,0,(NBJMOIS-$G21)/NBJMOIS)*0.8*SMICMENS,2),0)) -> 0 | O21: =IF(ISBLANK(A21),0,IF($D21,ROUND(IF($G21>16,0,(NBJMOIS-$G21)/NBJMOIS)*0.8*SMICMENS,2),0)) -> 0 | P21: =IF(L21+N21>M21+O21,"LEGALE","CONV") -> CONV | Q21: =IF($D21,IF($P21="LEGALE",L21,M21),ROUND(5.06*SMICHOR*G21,2)) -> 0 | R21: =IF($D21,IF($P21="LEGALE",N21,O21),0) -> 0 | S21: =IF($D21,ROUND(IF($H21=0,0,IF($D21,$H21/NBJMOIS*70*SMICHOR,0)),2),0) -> 0 | T21: =IF($D21,ROUND(IF($H21=0,0,IF($D21,IF($H21<16,$H21,26)/26*VP*SUJETION*VLOOKUP($E21,ANC!$A$2:$D$12,4,TRUE),0)),2),0) -> 0 | U21: =IF($D21,ROUND(IF($H21=0,0,(NBJMOIS-$H21)/NBJMOIS*0.8*70*SMICHOR),2),0) -> 0 | V21: =IF($D21,ROUND(IF($H21=0,0,(NBJMOIS-$H21)/NBJMOIS*0.8*70*SMICHOR),2),0) -> 0 | W21: =IF(S21+U21>T21+V21,"LEGALE","CONV") -> CONV | X21: =IF($D21,IF($W21="LEGALE",S21,T21),ROUND(5.06*SMICHOR*H21,2)) -> 0 | Y21: =IF($D21,IF($W21="LEGALE",U21,V21),0) -> 0 | Z21: =IF($D21,ROUND(IF($I21=0,0,IF($D21,$I21/NBJMOIS*70*SMICHOR,0)),2),0) -> 0 | AA21: =IF($D21,ROUND(IF($I21=0,0,IF($D21,IF($I21<16,$I21,26)/26*VP*SUJETION*VLOOKUP($E21,ANC!$A$2:$D$12,4,TRUE),0)),2),0) -> 0 | AB21: =IF($D21,ROUND(IF($I21=0,0,(NBJMOIS-$I21)/NBJMOIS*0.8*70*SMICHOR),2),0) -> 0 | AC21: =IF($D21,ROUND(IF($I21=0,0,(NBJMOIS-$I21)/NBJMOIS*0.8*70*SMICHOR),2),0) -> 0 | AD21: =IF(Z21+AB21>AA21+AC21,"LEGALE","CONV") -> CONV | AE21: =IF($D21,IF($AD21="LEGALE",Z21,AA21),ROUND(5.06*SMICHOR*I21,2)) -> 0 | AF21: =IF($D21,IF($AD21="LEGALE",AB21,AC21),0) -> 0 | AG21: =Q21+X21+AE21 -> 0 | AH21: =R21+Y21+AF21 -> 0 | AI21: =IF(ISBLANK(A21),0,ROUND(J21/26*VP*SUJETION*VLOOKUP($E21,ANC!A14:G24,7,TRUE),2)) -> 0 | AJ21: =AG21+AH21+AI21 -> 0 | AK21: =AJ21-K21 -> 0
... D51: TRUE | E51: 0 | F51: 0 | G51: 0 | H51: 0 | J51: 0 | L51: =ROUND(IF($G51=0,0,IF($D51,$G51/NBJMOIS*SMICMENS,0)),2) -> 0 | M51: =ROUND(IF($G51=0,0,IF($D51,IF($G51<16,$G51,26)/26*VP*SUJETION*VLOOKUP($E51,ANC!A$2:B$12,2,TRUE),0)),2) -> 0 | N51: =IF(ISBLANK(A51),0,IF($D51,ROUND(IF($G51=NBJMOIS,0,(NBJMOIS-$G51)/NBJMOIS)*0.8*SMICMENS,2),0)) -> 0 | O51: =IF(ISBLANK(A51),0,IF($D51,ROUND(IF($G51>16,0,(NBJMOIS-$G51)/NBJMOIS)*0.8*SMICMENS,2),0)) -> 0 | P51: =IF(L51+N51>M51+O51,"LEGALE","CONV") -> CONV | Q51: =IF($D51,IF($P51="LEGALE",L51,M51),ROUND(5.06*SMICHOR*G51,2)) -> 0 | R51: =IF($D51,IF($P51="LEGALE",N51,O51),0) -> 0 | S51: =IF($D51,ROUND(IF($H51=0,0,IF($D51,$H51/NBJMOIS*70*SMICHOR,0)),2),0) -> 0 | T51: =IF($D51,ROUND(IF($H51=0,0,IF($D51,IF($H51<16,$H51,26)/26*VP*SUJETION*VLOOKUP($E51,ANC!$A$2:$D$12,4,TRUE),0)),2),0) -> 0 | U51: =IF($D51,ROUND(IF($H51=0,0,(NBJMOIS-$H51)/NBJMOIS*0.8*70*SMICHOR),2),0) -> 0 | V51: =IF($D51,ROUND(IF($H51=0,0,(NBJMOIS-$H51)/NBJMOIS*0.8*70*SMICHOR),2),0) -> 0 | W51: =IF(S51+U51>T51+V51,"LEGALE","CONV") -> CONV | X51: =IF($D51,IF($W51="LEGALE",S51,T51),ROUND(5.06*SMICHOR*H51,2)) -> 0 | Y51: =IF($D51,IF($W51="LEGALE",U51,V51),0) -> 0 | Z51: =IF($D51,ROUND(IF($I51=0,0,IF($D51,$I51/NBJMOIS*70*SMICHOR,0)),2),0) -> 0 | AA51: =IF($D51,ROUND(IF($I51=0,0,IF($D51,IF($I51<16,$I51,26)/26*VP*SUJETION*VLOOKUP($E51,ANC!$A$2:$D$12,4,TRUE),0)),2),0) -> 0 | AB51: =IF($D51,ROUND(IF($I51=0,0,(NBJMOIS-$I51)/NBJMOIS*0.8*70*SMICHOR),2),0) -> 0 | AC51: =IF($D51,ROUND(IF($I51=0,0,(NBJMOIS-$I51)/NBJMOIS*0.8*70*SMICHOR),2),0) -> 0 | AD51: =IF(Z51+AB51>AA51+AC51,"LEGALE","CONV") -> CONV | AE51: =IF($D51,IF($AD51="LEGALE",Z51,AA51),ROUND(5.06*SMICHOR*I51,2)) -> 0 | AF51: =IF($D51,IF($AD51="LEGALE",AB51,AC51),0) -> 0 | AG51: =Q51+X51+AE51 -> 0 | AH51: =R51+Y51+AF51 -> 0 | AI51: =IF(ISBLANK(A51),0,ROUND(J51/26*VP*SUJETION*VLOOKUP($E51,ANC!A44:G54,7,TRUE),2)) -> 0 | AJ51: =AG51+AH51+AI51 -> 0 | AK51: =AJ51-K51 -> 0

Sheet ANC
A1: Ancienneté | B1: Coef 1 | C1: Coef 2 | D1: Dif 2-1 | E1: Coef 3 | F1: Dif 3-2 | G1: Enf1
A2: 0 | B2: 295 | C2: 468 | D2: =C2-B2 -> 173 | E2: 640 | F2: =E2-C2 -> 172 | G2: 156.4
A3: 1 | B3: 300 | C3: 473 | D3: =C3-B3 -> 173 | E3: 645 | F3: =E3-C3 -> 172 | G3: 158.25
A4: 3 | B4: 305 | C4: 478 | D4: =C4-B4 -> 173 | E4: 650 | F4: =E4-C4 -> 172 | G4: 158.7
A5: 5 | B5: 310 | C5: 483 | D5: =C5-B5 -> 173 | E5: 655 | F5: =E5-C5 -> 172 | G5: 158.8
A6: 7 | B6: 315 | C6: 488 | D6: =C6-B6 -> 173 | E6: 660 | F6: =E6-C6 -> 172 | G6: 158.2
A7: 10 | B7: 323 | C7: 493 | D7: =C7-B7 -> 170 | E7: 665 | F7: =E7-C7 -> 172 | G7: 161.65
A8: 13 | B8: 332 | C8: 498 | D8: =C8-B8 -> 166 | E8: 670 | F8: =E8-C8 -> 172 | G8: 166.1
A9: 16 | B9: 341 | C9: 511 | D9: =C9-B9 -> 170 | E9: 681 | F9: =E9-C9 -> 170 | G9: 170.9
A10: 20 | B10: 349 | C10: 523 | D10: =C10-B10 -> 174 | E10: 698 | F10: =E10-C10 -> 175 | G10: 174.7
A11: 24 | B11: 362 | C11: 542 | D11: =C11-B11 -> 180 | E11: 723 | F11: =E11-C11 -> 181 | G11: 181.4
A12: 28 | B12: 371 | C12: 557 | D12: =C12-B12 -> 186 | E12: 742 | F12: =E12-C12 -> 185 | G12: 185.5
