Workbook
Name CCD_MULTI_REMPLACEMENT_NB_SALARIES_13042022_13042023: 'Questions générales'!$D$12
Name CCD_REMPL_CLASSIQUE_13042022_13042023: 'Questions générales'!$D$8
Name CCD_REMPL_CLASSIQUE_31122023: 'Questions générales'!$D$6
Name CCD_REMPL_CLASSIQUE_DUREE_HEURES_13042022_13042023: 'Questions générales'!$D$10
Name CCD_REMPL_CLASSIQUE_DUREE_JOURS_13042022_13042023: 'Questions générales'!$D$9
Name CCD_REMPL_CLASSIQUE_DUREE_SEMAINES_13042022_13042023: 'Questions générales'!$D$11
Name CDD_VALIDES_31122023: 'Questions générales'!$D$7
Name CODE_ADHERENT: 'Questions générales'!$D$3
Name CONTRAT_TEMPS_PARTIEL: 'CDD multi-remplacement'!$F$1
Name CONVENTION_COLLECTIVE: 'Questions générales'!$D$5
Name DATE_DEBUT: 'CDD multi-remplacement'!$C$1
Name DATE_FIN: 'CDD multi-remplacement'!$D$1
Name FINESS: 'Questions générales'!$D$4
Name FINESS_TAB: 'CDD multi-remplacement'!$B$1
Name NB_HEURE_HEBDO: 'CDD multi-remplacement'!$E$1
Name NB_SALARIES_REMPLACES: 'CDD multi-remplacement'!$G$1
Name NUMERO: 'CDD multi-remplacement'!$A$1
Name ORGANISATION: 'Questions générales'!$D$2
Name REMPLACEMENT_SALARIE_ABSENT_AUTRES_MOTIFS: 'CDD multi-remplacement'!$K$1
Name REMPLACEMENT_SALARIE_ABSENT_CONGES_FAMILIAUX: 'CDD multi-remplacement'!$J$1
Name REMPLACEMENT_SALARIE_ABSENT_CP: 'CDD multi-remplacement'!$I$1
Name REMPLACEMENT_SALARIE_ABSENT_MALADIE: 'CDD multi-remplacement'!$H$1

Sheet Lisez-moi
A1: MAJ : 13/02/2024 | B1: 45537
B7: Evaluation quantitative de l'expérimentation du CDD multi-remplacement
B10: 1 / Onglets questions générales
B11: Question 1, 2 et 3 :
B12: Ces questions permettent d'identifier la structure. Elles permettront de caractériser l'utilisation des CDD multi-remplacements par secteur d'activité. Indiquez le finess juridique si vous répondez au niveau de l'organisme gestionnaire et le finess géographique si vous répondez en tant qu'établissement.
B13: Question 4 :
B14: Choisissez la convention collective que vous appliquez au titre de votre activité principale
B15: Questions 5 et 6 :
B16: Ces questions permettront de déterminer la proportion de CDD multi-remplacement comparée aux autres types de CDD. Indiquez le nombre de CDD de remplacement classique ainsi que le nombre total de CDD en cours au 31/08/2024.
B17: Questions 7 et 8 : Ne concerne pas les organismes ayant répondu à la première collecte
B18: Ces questions permettront de déterminer, au sein de la branche, la durée moyenne en jours des CDD de remplacement classique avant la mise en place de l'expérimentation. La période de référence est du 13/04/2022 au 13/04/2023. Cette durée sera ensuite comparée à la durée moyenne des CDD multi-remplacement. Pour la question 7, il s'agit du nombre total de CDD de remplacement classique conclus entre le 13/04/2022 et le 13/04/2023. Pour la question 8, il s'agit de la durée totale en jours calendaires de l'ensemble des CDD de remplacement conclus entre le 13/04/2022 et le 13/04/2023.
B19: Questions 9 et 10 : Ne concerne pas les organismes ayant répondu à la première collecte
B20: Ces questions permettront de déterminer, au sein de la branche, la durée de travail hebdomadaire moyenne en heures des CDD de remplacement classique avant la mise en place de l'expérimentation. La période de référence est du 13/04/2022 au 13/04/2023. Cette durée sera ensuite comparée à la durée de travail hebdomadaire moyenne des CDD multi-remplacement. Pour la question 9, il s'agit de la durée totale en heures de l'ensemble des CDD de remplacement conclus entre le 13/04/2022 et le 13/04/2023. Pour la question 10, il s'agit de la durée totale en semaines de l'ensemble des CDD de remplacement conclus entre le 13/04/2022 et le 13/04/2023.
... B53: Nous vous informons que les informations recueillies sur ce formulaire sont enregistrées dans un fichier informatisé. Les co-responsables de traitement sont : Nexem, 3 rue au Maire, 75003 Paris, la Fehap 179 rue de Lourmel, 75015 Paris, et Axess, 3 rue au Maire, 75003 Paris. Ce traitement a pour finalité d'avoir des résultats consolidés au niveau d'Axess pour répondre au questionnaire quantitatif de la Direction Générale du Travail sur l'expérimentation des CDD multi-remplacements. La base légale du traitement est le consentement. Les données collectées seront communiquées uniquement en interne au sein des 2 organisations responsables du traitement. Les résultats consolidés seront communiqués à la Direction Générale du Travail. Les données sont conservées pendant 2 ans à partir de la fin de l’enquête Axess. Vous pouvez accéder aux données vous concernant, les rectifier, demander leur effacement ou exercer votre droit à la limitation du traitement de vos données. Vous pouvez retirer à tout moment votre consentement au traitement de vos données. Consultez le site cnil.fr pour plus d’informations sur vos droits. Pour en savoir plus sur la gestion de vos données personnelles et pour exercer vos droits auprès de AXESS, vous pouvez contacter le DPO de la FEHAP : dpo@fehap.fr ou le DPO de Nexem : dpo@nexem.fr Si vous estimez, après nous avoir contactés, que vos droits « Informatique et Libertés » ne sont pas respectés, vous pouvez adresser une réclamation à la CNIL

Sheet Questions générales
A1: N° | B1: Finess | C1: Question | D1: Réponse
A2: 1 | B2: =IF($D$2<>"",$D$2,"") | C2: Raison sociale de votre organisation | E2: Veuillez indiquer votre la raison sociale de votre organisation
A3: 2 | C3: Indiquez votre code adhérent | E3: Veuillez indiquer votre numéro adhérent du type A00000 ou E00000 pour les adhérents FEHAP et 00000 pour les adhérents Nexem
A4: 3 | B4: =IF($D$2<>"",$D$2,"") | C4: Indiquez votre numéro de finess | E4: Veuillez indiquer votre numéro de finess géographique si vous répondez en tant qu'établissement et finess juridique en tant qu'organisme gestionnaire
A5: 4 | B5: =IF($D$2<>"",$D$2,"") | C5: Quelle convention collective appliquez-vous au titre de votre activité principale ? | E5: Indiquez la convention collective que vous appliquez au titre de votre activité principale
A6: 5 | B6: =IF($D$2<>"",$D$2,"") | C6: Combien de CDD de remplacement classique étaient en cours de validité au 31/08/2024 ? | E6: Il s'agit du nombre de CDD de remplacement classique en cours au sein de la structure au 31/08/2024
A7: 6 | B7: =IF($D$2<>"",$D$2,"") | C7: ,Combien de CDD étaient en cours de validité au 31/08/2024 ? | E7: Il s'agit du nombre total de CDD tout motif en cours au sein de la structure au 31/08/2024
A8: 7 | B8: =IF($D$2<>"",$D$2,"") | C8: Combien de CDD de remplacement classique ont été conclus entre le 13/04/2022 et le 13/04/2023 ? | E8: Ne concerne pas les organismes ayant répondu à la première collecte. Il s'agit du nombre total de CDD de remplacement classique signé entre le 13/04/2022 et le 13/04/2023.
A9: 8 | B9: =IF($D$2<>"",$D$2,"") | C9: Quelle était la durée totale, exprimée en jours calendaires, des contrats de remplacement classique conclus entre le 13 avril 2022 et le 13 avril 2023 ? | E9: Ne concerne pas les organismes ayant répondu à la première collecte. Il s'agit de la somme des durées (en jours) de l'ensemble des contrats de remplacement classique conclus entre le 13/04/2022 et la 13/04/2023.
A10: 9 | B10: =IF($D$2<>"",$D$2,"") | C10: Quelle était la durée totale, exprimée en heures, des contrats de remplacement classique conclus entre le 13 avril 2022 et le 13 avril 2023 ? | E10: Ne concerne pas les organismes ayant répondu à la première collecte. Il s'agit de la somme des durées (en heures) de l'ensemble des contrats de remplacement classique conclus entre le 13/04/2022 et la 13/04/2023.
A11: 10 | B11: =IF($D$2<>"",$D$2,"") | C11: Quelle était la durée totale, exprimée en semaines, des contrats de remplacement classique conclus entre le 13 avril 2022 et le 13 avril 2023 ? | E11: Ne concerne pas les organismes ayant répondu à la première collecte. Il s'agit de la somme des durées (en semaines) de l'ensemble des contrats de remplacement classique conclus entre le 13/04/2022 et la 13/04/2023.
A12: 11 | B12: =IF($D$2<>"",$D$2,"") | C12: Avec combien de salariés remplaçants a été conclu au moins un CDD multi-remplacement entre le 13/04/2024 et le 31/08/2024 ou du 01/01/2024 et le 31/08/2024 pour ceux ayant déjà répondu à la première collecte ? | E12: Il s'agit du nombre de titulaires d'au moins un CDD multi-remplacement conclus entre le 13/04/2024 et le 31/08/2024 ou du 01/01/2024 et le 31/08/2024 pour ceux ayant déjà répondu à la première collecte.

Sheet CDD multi-remplacement
A1: Numéro | B1: Finess | C1: Date de début | D1: Date de fin | E1: Nombre d'heures hebdomadaires | F1: Contrat à temps partiel | G1: Nombre de salariés remplacés | H1: Remplacement salarié absent pour maladie | I1: Remplacement salarié absent pour congés payés | J1: Remplacement salarié absent pour congés familiaux | K1: Remplacement salarié absent pour autres motifs
A2: 1 | B2: =IF(AND('Questions générales'!$D$2<>"",C2<>""),'Questions générales'!$D$2,"")
A3: 2 | B3: =IF(AND('Questions générales'!$D$2<>"",C3<>""),'Questions générales'!$D$2,"")
A4: 3 | B4: =IF(AND('Questions générales'!$D$2<>"",C4<>""),'Questions générales'!$D$2,"")
A5: 4 | B5: =IF(AND('Questions générales'!$D$2<>"",C5<>""),'Questions générales'!$D$2,"")
A6: 5 | B6: =IF(AND('Questions générales'!$D$2<>"",C6<>""),'Questions générales'!$D$2,"")
A7: 6 | B7: =IF(AND('Questions générales'!$D$2<>"",C7<>""),'Questions générales'!$D$2,"")
A8: 7 | B8: =IF(AND('Questions générales'!$D$2<>"",C8<>""),'Questions générales'!$D$2,"")
A9: 8 | B9: =IF(AND('Questions générales'!$D$2<>"",C9<>""),'Questions générales'!$D$2,"")
A10: 9 | B10: =IF(AND('Questions générales'!$D$2<>"",C10<>""),'Questions générales'!$D$2,"")
A11: 10 | B11: =IF(AND('Questions générales'!$D$2<>"",C11<>""),'Questions générales'!$D$2,"")
A12: 11 | B12: =IF(AND('Questions générales'!$D$2<>"",C12<>""),'Questions générales'!$D$2,"")
A13: 12 | B13: =IF(AND('Questions générales'!$D$2<>"",C13<>""),'Questions générales'!$D$2,"")
... A301: 300 | B301: =IF(AND('Questions générales'!$D$2<>"",C301<>""),'Questions générales'!$D$2,"")

Sheet Listes
A1: 0029 - CCN51- Convention collective nationale des établissements privés d'hospitalisation, de soins, de cure et de garde à but non lucratif du 31 octobre 1951
A2: 0413 - CCN66 - Convention collective nationale de travail des établissements et services pour personnes inadaptées et handicapées du 15 mars 1966
A3: 0783 - CHRS - Convention collective des centres d'hébergement et de réadaptation sociale
A4: 5502 - CRF - Convention collective d'entreprise de la Croix Rouge
A7: oui
A8: non
